BEGIN:VCALENDAR
VERSION:2.0
PRODID:-//Box Hill Miniature Steam Railway - ECPv6.15.18//NONSGML v1.0//EN
CALSCALE:GREGORIAN
METHOD:PUBLISH
X-WR-CALNAME:Box Hill Miniature Steam Railway
X-ORIGINAL-URL:https://bhmsrs.org.au
X-WR-CALDESC:Events for Box Hill Miniature Steam Railway
REFRESH-INTERVAL;VALUE=DURATION:PT1H
X-Robots-Tag:noindex
X-PUBLISHED-TTL:PT1H
BEGIN:VTIMEZONE
TZID:Australia/Melbourne
BEGIN:STANDARD
TZOFFSETFROM:+1100
TZOFFSETTO:+1000
TZNAME:AEST
DTSTART:20250405T160000
END:STANDARD
BEGIN:DAYLIGHT
TZOFFSETFROM:+1000
TZOFFSETTO:+1100
TZNAME:AEDT
DTSTART:20251004T160000
END:DAYLIGHT
BEGIN:STANDARD
TZOFFSETFROM:+1100
TZOFFSETTO:+1000
TZNAME:AEST
DTSTART:20260404T160000
END:STANDARD
BEGIN:DAYLIGHT
TZOFFSETFROM:+1000
TZOFFSETTO:+1100
TZNAME:AEDT
DTSTART:20261003T160000
END:DAYLIGHT
BEGIN:STANDARD
TZOFFSETFROM:+1100
TZOFFSETTO:+1000
TZNAME:AEST
DTSTART:20270403T160000
END:STANDARD
BEGIN:DAYLIGHT
TZOFFSETFROM:+1000
TZOFFSETTO:+1100
TZNAME:AEDT
DTSTART:20271002T160000
END:DAYLIGHT
END:VTIMEZONE
BEGIN:VEVENT
DTSTART;TZID=Australia/Melbourne:20260419T110000
DTEND;TZID=Australia/Melbourne:20260419T160000
DTSTAMP:20260421T211808
CREATED:20191230T062447Z
LAST-MODIFIED:20251120T220800Z
UID:761-1776596400-1776614400@bhmsrs.org.au
SUMMARY:April Public Running Day
DESCRIPTION:Come along and ride the rails behind one\, or more\, of our trains at our monthly Public Running Day.  Perfect for those with young families\, or those who are just young at heart. \nTickets may be purchased from the ticket window adjacent to the platform entrance using either card (preferred) or cash payments (with correct amount\, no change available)\, and remember children under 2 years of age ride FREE!!! \nWhy not pack a picnic and make a day of it with your family and friends.  (Please note however\, that alcohol is not permitted anywhere within the grounds.) \nBe sure to check out the Public Running Days page for more details and important safety information. \nWe hope to see you there.
URL:https://bhmsrs.org.au/event/april-public-running-day/
LOCATION:Box Hill Miniature Railway\, Box Hill Miniature Railway\, Corner Elgar Road and Belmore Road\, Mont Albert North\, Victoria\, 3129\, Australia
CATEGORIES:Public Running Day
END:VEVENT
BEGIN:VEVENT
DTSTART;TZID=Australia/Melbourne:20260403T110000
DTEND;TZID=Australia/Melbourne:20260403T160000
DTSTAMP:20260421T211808
CREATED:20191230T060456Z
LAST-MODIFIED:20251120T220852Z
UID:763-1775214000-1775232000@bhmsrs.org.au
SUMMARY:Royal Children’s Hospital Good Friday Appeal Public Running Day
DESCRIPTION:This is a special Public Running Day with all money raised donated to the Royal Children’s Hospital Good Friday Appeal to help with the life saving care and ground breaking research carried out at the Royal Children’s Hospital in Melbourne.  By purchasing a ticket and riding on our railway on this special Public Running Day\, you can help the thousands of children\, and their families\, who rely on the work of the Royal Children’s Hospital every year. \nOver the last 20 years\, your support of our Good Friday Public Runs have resulted in over $100\,000.00 donated to the Royal Children’s Hospital!!!\n \n\nCome along and ride the rails behind one\, or more\, of our trains on this special Public Running Day.  Perfect for those with young families\, or those who are just young at heart. \nTickets may be purchased from the ticket window adjacent to the platform entrance using either card (preferred) or cash payments (with correct amount\, no change available)\, and remember children under 2 years of age ride FREE!!! \nWhy not pack a picnic and make a day of it with your family and friends.  (Please note however\, that alcohol is not permitted anywhere within the grounds.) \nBe sure to check out the Public Running Days page for more details and important safety information. \nWe hope to see you there. \n 
URL:https://bhmsrs.org.au/event/royal-childrens-hospital-good-friday-appeal-public-running-day/
LOCATION:Box Hill Miniature Railway\, Box Hill Miniature Railway\, Corner Elgar Road and Belmore Road\, Mont Albert North\, Victoria\, 3129\, Australia
CATEGORIES:Public Running Day
END:VEVENT
BEGIN:VEVENT
DTSTART;TZID=Australia/Melbourne:20260315T110000
DTEND;TZID=Australia/Melbourne:20260315T160000
DTSTAMP:20260421T211808
CREATED:20191230T054723Z
LAST-MODIFIED:20251120T220512Z
UID:759-1773572400-1773590400@bhmsrs.org.au
SUMMARY:March Public Running Day
DESCRIPTION:Come along and ride the rails behind one\, or more\, of our trains at our monthly Public Running Day.  Perfect for those with young families\, or those who are just young at heart. \nTickets may be purchased from the ticket window adjacent to the platform entrance using either card (preferred) or cash payments (with correct amount\, no change available)\, and remember children under 2 years of age ride FREE!!! \nWhy not pack a picnic and make a day of it with your family and friends.  (Please note however\, that alcohol is not permitted anywhere within the grounds.) \nBe sure to check out the Public Running Days page for more details and important safety information. \nWe hope to see you there.
URL:https://bhmsrs.org.au/event/march-public-running-day/
LOCATION:Box Hill Miniature Railway\, Box Hill Miniature Railway\, Corner Elgar Road and Belmore Road\, Mont Albert North\, Victoria\, 3129\, Australia
CATEGORIES:Public Running Day
END:VEVENT
BEGIN:VEVENT
DTSTART;TZID=Australia/Melbourne:20260215T110000
DTEND;TZID=Australia/Melbourne:20260215T160000
DTSTAMP:20260421T211808
CREATED:20191230T054604Z
LAST-MODIFIED:20260211T100240Z
UID:757-1771153200-1771171200@bhmsrs.org.au
SUMMARY:Bushfire Relief Public Running Day
DESCRIPTION:This is a special Public Running Day with 100% of all money raised donated directly to Bushfire Relief through the Harcourt Progress Relief Fund to assist with the recovery effort associated with the recent devastating Harcourt bushfires.  By purchasing a ticket and riding on our railway on this special Public Running Day\, you can help the rebuilding of lives\, livelihoods and the community of those affected by the January 2026 Harcourt Bushfires. \n\nCome along and ride the rails behind one\, or more\, of our trains at our monthly Public Running Day.  Perfect for those with young families\, or those who are just young at heart. \nTickets may be purchased from the ticket window adjacent to the platform entrance using either card (preferred) or cash payments (with correct amount\, no change available)\, and remember children under 2 years of age ride FREE!!! \nWhy not pack a picnic and make a day of it with your family and friends.  (Please note however\, that alcohol is not permitted anywhere within the grounds.) \nBe sure to check out the Public Running Days page for more details and important safety information. \nWe hope to see you there.
URL:https://bhmsrs.org.au/event/february-public-running-day/
LOCATION:Box Hill Miniature Railway\, Box Hill Miniature Railway\, Corner Elgar Road and Belmore Road\, Mont Albert North\, Victoria\, 3129\, Australia
CATEGORIES:Public Running Day
END:VEVENT
BEGIN:VEVENT
DTSTART;TZID=Australia/Melbourne:20260118T110000
DTEND;TZID=Australia/Melbourne:20260118T160000
DTSTAMP:20260421T211808
CREATED:20191230T053735Z
LAST-MODIFIED:20251120T220405Z
UID:754-1768734000-1768752000@bhmsrs.org.au
SUMMARY:January Public Running Day
DESCRIPTION:Come along and ride the rails behind one\, or more\, of our trains at our monthly Public Running Day.  Perfect for those with young families\, or those who are just young at heart. \nTickets may be purchased from the ticket window adjacent to the platform entrance using either card (preferred) or cash payments (with correct amount\, no change available)\, and remember children under 2 years of age ride FREE!!! \nWhy not pack a picnic and make a day of it with your family and friends.  (Please note however\, that alcohol is not permitted anywhere within the grounds.) \nBe sure to check out the Public Running Days page for more details and important safety information. \nWe hope to see you there.
URL:https://bhmsrs.org.au/event/january-public-running-day/
LOCATION:Box Hill Miniature Railway\, Box Hill Miniature Railway\, Corner Elgar Road and Belmore Road\, Mont Albert North\, Victoria\, 3129\, Australia
CATEGORIES:Public Running Day
END:VEVENT
END:VCALENDAR